BEGIN:VCALENDAR
VERSION:2.0
PRODID:-//Volare Indoor - ECPv4.9.1.1//NONSGML v1.0//EN
CALSCALE:GREGORIAN
METHOD:PUBLISH
X-WR-CALNAME:Volare Indoor
X-ORIGINAL-URL:https://www.volareindoor.it
X-WR-CALDESC:Eventi per Volare Indoor
BEGIN:VEVENT
DTSTART;VALUE=DATE:20160611
DTEND;VALUE=DATE:20160613
DTSTAMP:20260420T011351
CREATED:20160526T073540Z
LAST-MODIFIED:20160526T085251Z
UID:2815-1465603200-1465775999@www.volareindoor.it
SUMMARY:Giornata Volare Indoor | Tunnel del Vento Torino
DESCRIPTION:Metti le ali e vola verso l’Estate!\nA Giugno\, scopri il Volo Indoor a Torino in Galleria del Vento! In questa giornata organizzata da VolareIndoor.it puoi partecipare al Mini Corso Primo Volo Indoor\, effettuare coaching avanzato con i migliori istruttori o semplicemente trascorre una piacevole giornata nel tunnel del vento di Torino Grugliasco. \nDove: Tunnel del Vento di Torino (Via Crea 10bis Grugliasco c/o Centro Commerciale “Le Gru”)\nQuando: 11 e 12 Giugno 2016\, evento giornaliero\, fino ad esaurimento posti \n \nCos’è il Corso Primo Volo Indoor? \nIl modo più veloce e completo per scoprire il Volo Indoor grazie a una giornata di avvicinamento nel tunnel del vento. Si tratta di un vero e proprio mini corso per conoscere questo nuovo sport e imparare a volare fin da subito. Il Corso Primo Volo Indoor nasce con l’obiettivo di darti un assaggio dei corsi avanzati con un impegno economico ridotto ma mantenendo lo stesso approccio didattico con il massimo relax e divertimento. \nPerché partecipare?\n– impari a volare fin da subito grazie alla didattica più avanzata: un’emozione incomparabile!\n– un istruttore ti seguirà personalmente per tutta la durata dell’evento\n– conosci VolareIndoor.it\, la community e i corsi che ti accompagnano da zero fino alle competizioni di Volo Indoor. \n \nCome prenotare \nNon perdere questa data\, prenota ora e iscriviti online al Mini Corso Primo Volo Indoor\, invia la tua conferma all’indirizzo info@volareindoor.it e sei subito in volo! \n \nCoaching avanzato \nSei un paracadutista o un proflyer e vuoi migliorare la tua tecnica di volo? Contattaci ora per prenotare in questa data il tuo coaching personalizzato insieme ai nostri istruttori. Scorpi di più visitanto al apgina dedicata al Volo Indoor per Paracadutisti. \n
URL:https://www.volareindoor.it/evento/giornata-volare-indoor-tunnel-del-vento-torino-giugno-2016/
LOCATION:Wind Tunnel Torino – Volare Indoor Skydiving\, Via Crea 10\, Grugliasco\, Italia
GEO:45.0558571;7.6119146
X-APPLE-STRUCTURED-LOCATION;VALUE=URI;X-ADDRESS=Wind Tunnel Torino – Volare Indoor Skydiving Via Crea 10 Grugliasco Italia;X-APPLE-RADIUS=500;X-TITLE=Via Crea 10:geo:7.6119146,45.0558571
CATEGORIES:Corsi Volo Indoor,Corso Primo Volo Indoor
ATTACH;FMTTYPE=image/jpeg:https://www.volareindoor.it/wp-content/uploads/2016/05/locandina-giornata-volare-indoor.jpg
END:VEVENT
END:VCALENDAR