BEGIN:VCALENDAR
VERSION:2.0
PRODID:-//Volare Indoor - ECPv4.9.1.1//NONSGML v1.0//EN
CALSCALE:GREGORIAN
METHOD:PUBLISH
X-WR-CALNAME:Volare Indoor
X-ORIGINAL-URL:https://www.volareindoor.it
X-WR-CALDESC:Eventi per Volare Indoor
BEGIN:VEVENT
DTSTART;VALUE=DATE:20160416
DTEND;VALUE=DATE:20160417
DTSTAMP:20260419T231716
CREATED:20160214T203524Z
LAST-MODIFIED:20160310T201908Z
UID:2377-1460764800-1460851199@www.volareindoor.it
SUMMARY:Giornata Volare Indoor | Wind Tunnel Torino
DESCRIPTION:Scopri il Volo Indoor! In questa giornata puoi seguire il Corso Primo Volo Indoor\, effettuare coaching avanzato con i migliori istruttori o semplicemente trascorre una piacevole giornata nel tunnel del vento di Torino Grugliasco con VolareIndoor.it. \n\nCos’è il Corso Primo Volo Indoor? \nIl modo più veloce e completo per scoprire il Volo Indoor grazie a una giornata di avvicinamento nel tunnel del vento. Si tratta di un vero e proprio mini corso per conoscere questo nuovo sport e imparare a volare fin da subito. Il Corso Primo Volo Indoor nasce con l’obiettivo di darti un assaggio dei corsi avanzati con un impegno economico ridotto ma mantenendo lo stesso approccio didattico con il massimo relax e divertimento. \nPerché partecipare?\n– è il modo migliore per conoscere il nuovo Sport del Volo Indoor;\n– impari a volare fin da subito nel modo corretto: un’emozione incomparabile;\n– conosci VolareIndoor.it\, la community e i corsi che ti accompagnano da zero fino alle competizioni di Volo Indoor. \nPer non perdere questa data prenota ora cliccando qui e invia la tua conferma all’indirizzo info@volareindoor.it. \n\nCoaching avanzato \nSei un paracadutista o un proflyer e vuoi migliorare la tua tecnica di volo? Contattaci ora per prenotare in questa data il tuo coaching con nostri istruttori\, oppure clicca qui per maggiori info. \n
URL:https://www.volareindoor.it/evento/giornata-volare-indoor-torino-16-aprile-2016/
LOCATION:Wind Tunnel Torino – Volare Indoor Skydiving\, Via Crea 10\, Grugliasco\, Italia
GEO:45.0558571;7.6119146
X-APPLE-STRUCTURED-LOCATION;VALUE=URI;X-ADDRESS=Wind Tunnel Torino – Volare Indoor Skydiving Via Crea 10 Grugliasco Italia;X-APPLE-RADIUS=500;X-TITLE=Via Crea 10:geo:7.6119146,45.0558571
CATEGORIES:Corsi Volo Indoor,Corso Primo Volo Indoor,Evento Italia,Giornata Volare Indoor
ATTACH;FMTTYPE=image/jpeg:https://www.volareindoor.it/wp-content/uploads/2015/12/giornata-volare-indoor.jpg
END:VEVENT
END:VCALENDAR