BEGIN:VCALENDAR
VERSION:2.0
PRODID:-//Volare Indoor - ECPv4.9.1.1//NONSGML v1.0//EN
CALSCALE:GREGORIAN
METHOD:PUBLISH
X-WR-CALNAME:Volare Indoor
X-ORIGINAL-URL:https://www.volareindoor.it
X-WR-CALDESC:Eventi per Volare Indoor
BEGIN:VEVENT
DTSTART;VALUE=DATE:20160401
DTEND;VALUE=DATE:20160403
DTSTAMP:20260420T011432
CREATED:20160321T110337Z
LAST-MODIFIED:20160322T082905Z
UID:2525-1459468800-1459641599@www.volareindoor.it
SUMMARY:Bodyflight World Challenge 2016
DESCRIPTION: Bodyflight World Challenge 2016 – L’anno scorso abbiamo celebrato 10 anni della manifestazione in grande stile\, e ora diamo il benvenuto a tutti voi per un nuovo decennio di competizione di Volo Indoor!\nVenerdì 1 e Sabato 2 Aprile 2016 con oltre 105 squadre iscritte nelle ultime due edizioni\, di cui oltre 47 in categoria AAA\, il Bodyflight World Challenge rimane la più grande competizione di Volo Indoor in programma nel palcoscenico internazionale sia per la Formazioni in Caduta Libera che per il Free Fly. \nGuarda il LIVE Streaming della competizione: http://www.indoorskydiving.world/live-streaming/world-challenge-2016/ \n\n Bodyflight World Challenge 2016 – Last year we celebrated 10 years of the event in style but now we welcome you all to a brand new decade of tunnel competition! \nFriday 1st & Saturday 2nd April 2016 With over 105 teams entering each comeptition for the last 2 years running\, including over 47 in AAA\, the Bodyflight World Challenge remains the largest meet on the international skydiving calender for both Formation Skydiving and Free Fly. \nWatch the LIVE Streaming: http://www.indoorskydiving.world/live-streaming/world-challenge-2016/ \n
URL:https://www.volareindoor.it/evento/bodyflight-world-challenge-2016/
CATEGORIES:Campionato del Mondo,Competizioni
ATTACH;FMTTYPE=image/jpeg:https://www.volareindoor.it/wp-content/uploads/2016/03/world-challenge-2016.jpg
ORGANIZER;CN="Bodyflight%20Bedford":MAILTO:reception@bodyflight.co.uk
END:VEVENT
END:VCALENDAR